BEGIN:VCALENDAR
VERSION:2.0
CALSCALE:GREGORIAN
PRODID:adamgibbons/ics
METHOD:PUBLISH
X-PUBLISHED-TTL:PT1H
BEGIN:VEVENT
UID:3631@lapunta.org
SUMMARY:Chiamata alle ARTI
DTSTAMP:20260424T065932Z
DTSTART:20240328T180000Z
DTEND:20240328T220000Z
DESCRIPTION:🚫 STOP AL GENOCIDIO 🚫\n\n▶️ CHIAMATA ALLE ARTI ◀️\n\n🔔 Dalle 19 i
	n poi una serata di spettacolo e riflessione per riaffermare\nl'urgenza di
	 fermare il massacro.\n\nInsieme a noi aderiscono Moni Ovadia\, Emma Dante
	\, Rezzamastrella\, Bandabardò\,\nPetra Magoni\, Vauro\, e molti altri.\n\
	n➡️ La serata sarà l'occasione per una raccolta fondi in favore di un proge
	tto\nper portare l'acqua a Gaza di Un ponte per\, per info e contributi:\n
	www.unponteper.it/it/acqua-per-gaza [http://www.unponteper.it/it/acqua-per
	-gaza]\n\nVUOI CONTRIBUIRE?\n\n👉 Aiutaci a pubblicizzare l'evento\n\nPrima
	 di tutto\, condividi il post e segui e condividi gli aggiornamenti\; mand
	a\nquesto messaggio ai tuoi contatti\, considera che ci sarà la diretta st
	reaming e\nche le persone potranno seguire da remoto.
URL:https://lapunta.org/event/chiamata-alle-arti
LOCATION:Teatro Nuovo - Piazza della Stazione 16\, Pisa
STATUS:CONFIRMED
CATEGORIES:
X-ALT-DESC;FMTTYPE=text/html:<p>🚫 STOP AL GENOCIDIO 🚫</p><p>▶️ CHIAMATA ALLE
	 ARTI ◀️</p><p>🔔 Dalle 19 in poi una serata di spettacolo e riflessione per
	 riaffermare l'urgenza di fermare il massacro. </p><p>Insieme a noi aderis
	cono Moni Ovadia, Emma Dante, Rezzamastrella, Bandabardò, Petra Magoni, Va
	uro, e molti altri.</p><p>➡️ La serata sarà l'occasione per una raccolta fo
	ndi in favore di un progetto per portare l'acqua a Gaza di Un ponte per, p
	er info e contributi: <a href="http://www.unponteper.it/it/acqua-per-gaza"
	>www.unponteper.it/it/acqua-per-gaza</a></p><p>VUOI CONTRIBUIRE?</p><p>👉 A
	iutaci a pubblicizzare l'evento </p><p>Prima di tutto, condividi il post e
	 segui  e condividi gli aggiornamenti; manda questo messaggio ai tuoi cont
	atti, considera che ci sarà la diretta streaming e che le persone potranno
	 seguire da remoto.</p>
END:VEVENT
BEGIN:VEVENT
UID:3517@lapunta.org
SUMMARY:Insieme contro la repressione - Assemblea cittadina
DTSTAMP:20260424T065932Z
DTSTART:20240229T140000Z
DTEND:20240229T170000Z
DESCRIPTION:Come coordinamento degli studenti medi\,\n\nabbiamo convocato u
	n'assemblea cittadina per parlare dei gravi fatti accaduti in\ncittà vener
	dì 23 febbraio.\n\nUna violenza spropositata da parte delle forze dell'ord
	ine presenti ha coinvolto\nla nostra pacifica manifestazione che voleva de
	nunciare il genocidio in\nPalestina.\n\nCi preoccupa che negli ultimi mesi
	\, avvenimenti simili\, altrettanto gravi\,\nseppur con una minore eco med
	iatica\, si siamo susseguiti nel nostro paese.\n\nCrediamo che questo poss
	a essere un campanello d'allarme per la sicurezza della\nlibertà di espres
	sione così come è sancita dalla nostra costituzione.\n\nRingraziamo la cit
	tà per aver spontaneamente manifestato nel pomeriggio di quel\ngiorno.\n\n
	Pisa non ci ha lasciati soli.\n\nMa dopo la risposta della piazza\, sentia
	mo il bisogno di un confronto\, di una\nriflessione con la nostra comunità
	\, per comprendere le ragioni di ciò che è\navvenuto\, perché non venga di
	menticato\, perché non succeda nuovamente.
URL:https://lapunta.org/event/insieme-contro-la-repressione-assemblea-citta
	dina
LOCATION:Teatro Nuovo - Piazza della Stazione 16\, Pisa
STATUS:CONFIRMED
CATEGORIES:Coordinamento degli studenti medi,Palestina,Pisa,repressione
X-ALT-DESC;FMTTYPE=text/html:<p>Come coordinamento degli studenti medi,</p>
	<p>abbiamo convocato un'assemblea cittadina per parlare dei gravi fatti ac
	caduti in città venerdì 23 febbraio.</p><p>Una violenza spropositata da pa
	rte delle forze dell'ordine presenti ha coinvolto la nostra pacifica manif
	estazione che voleva denunciare il genocidio in Palestina.</p><p>Ci preocc
	upa che negli ultimi mesi, avvenimenti simili, altrettanto gravi, seppur c
	on una minore eco mediatica, si siamo susseguiti nel nostro paese.</p><p>C
	rediamo che questo possa essere un campanello d'allarme per la sicurezza d
	ella libertà di espressione così come è sancita dalla nostra costituzione.
	</p><p>Ringraziamo la città per aver spontaneamente manifestato nel pomeri
	ggio di quel giorno.</p><p>Pisa non ci ha lasciati soli.</p><p>Ma dopo la 
	risposta della piazza, sentiamo il bisogno di un confronto, di una rifless
	ione con la nostra comunità, per comprendere le ragioni di ciò che è avven
	uto, perché non venga dimenticato, perché non succeda nuovamente.</p>
END:VEVENT
END:VCALENDAR
